Package: multiGSEA Version: 1.16.2 Command: /Library/Frameworks/R.framework/Resources/bin/R CMD build --keep-empty-dirs --no-resave-data multiGSEA StartedAt: 2025-03-31 20:28:29 -0400 (Mon, 31 Mar 2025) EndedAt: 2025-03-31 21:08:30 -0400 (Mon, 31 Mar 2025) EllapsedTime: 2400.3 seconds RetCode: None Status: TIMEOUT PackageFile: None PackageFileSize: NA