Package: multiGSEA Version: 1.16.2 Command: /Library/Frameworks/R.framework/Resources/bin/R CMD INSTALL multiGSEA StartedAt: 2025-03-31 17:29:17 -0400 (Mon, 31 Mar 2025) EndedAt: 2025-03-31 17:31:00 -0400 (Mon, 31 Mar 2025) EllapsedTime: 102.5 seconds RetCode: 0 Status: OK