Package: multiGSEA Version: 1.16.2 Command: /Library/Frameworks/R.framework/Resources/bin/R CMD check --install=check:multiGSEA.install-out.txt --library=/Library/Frameworks/R.framework/Resources/library --no-vignettes --timings multiGSEA_1.16.2.tar.gz StartedAt: 2025-04-02 02:16:06 -0400 (Wed, 02 Apr 2025) EndedAt: 2025-04-02 02:28:01 -0400 (Wed, 02 Apr 2025) EllapsedTime: 715.2 seconds RetCode: 0 Status: OK CheckDir: multiGSEA.Rcheck Warnings: 0