Package: multiGSEA Version: 1.16.2 Command: /Library/Frameworks/R.framework/Resources/bin/R CMD build --keep-empty-dirs --no-resave-data multiGSEA StartedAt: 2025-04-01 03:57:49 -0400 (Tue, 01 Apr 2025) EndedAt: 2025-04-01 04:26:03 -0400 (Tue, 01 Apr 2025) EllapsedTime: 1694.0 seconds RetCode: 0 Status: OK PackageFile: multiGSEA_1.16.2.tar.gz PackageFileSize: 952.6 KiB