Package: multiGSEA Version: 1.16.2 Command: rm -rf multiGSEA.buildbin-libdir && mkdir multiGSEA.buildbin-libdir && /Users/biocbuild/BBS/utils/build-universal.sh multiGSEA_1.16.2.tar.gz /Library/Frameworks/R.framework/Resources/bin/R multiGSEA.buildbin-libdir StartedAt: 2025-04-02 15:22:50 -0400 (Wed, 02 Apr 2025) EndedAt: 2025-04-02 15:24:42 -0400 (Wed, 02 Apr 2025) EllapsedTime: 111.8 seconds RetCode: 0 Status: OK PackageFile: multiGSEA_1.16.2.tgz PackageFileSize: 981.5 KiB