Package: multiClust Version: 1.36.0 Command: /home/biocbuild/bbs-3.20-bioc/R/bin/R CMD check --install=check:multiClust.install-out.txt --library=/home/biocbuild/bbs-3.20-bioc/R/site-library --timings multiClust_1.36.0.tar.gz StartedAt: 2025-04-01 00:18:27 -0400 (Tue, 01 Apr 2025) EndedAt: 2025-04-01 00:19:42 -0400 (Tue, 01 Apr 2025) EllapsedTime: 75.0 seconds RetCode: 0 Status: OK CheckDir: multiClust.Rcheck Warnings: 0