Package: multiClust Version: 1.36.0 Command: /Library/Frameworks/R.framework/Resources/bin/R CMD check --install=check:multiClust.install-out.txt --library=/Library/Frameworks/R.framework/Resources/library --no-vignettes --timings multiClust_1.36.0.tar.gz StartedAt: 2025-04-01 06:14:43 -0400 (Tue, 01 Apr 2025) EndedAt: 2025-04-01 06:16:51 -0400 (Tue, 01 Apr 2025) EllapsedTime: 127.9 seconds RetCode: 0 Status: OK CheckDir: multiClust.Rcheck Warnings: 0