Package: multiClust Version: 1.36.0 Command: /Library/Frameworks/R.framework/Resources/bin/R CMD build --keep-empty-dirs --no-resave-data multiClust StartedAt: 2025-03-31 20:27:34 -0400 (Mon, 31 Mar 2025) EndedAt: 2025-03-31 20:28:47 -0400 (Mon, 31 Mar 2025) EllapsedTime: 72.3 seconds RetCode: 0 Status: OK PackageFile: multiClust_1.36.0.tar.gz PackageFileSize: 3.047 MiB