Package: multiClust Version: 1.36.0 Command: /Library/Frameworks/R.framework/Resources/bin/R CMD INSTALL multiClust StartedAt: 2025-03-31 17:18:05 -0400 (Mon, 31 Mar 2025) EndedAt: 2025-03-31 17:18:14 -0400 (Mon, 31 Mar 2025) EllapsedTime: 8.4 seconds RetCode: 0 Status: OK