Package: msqrob2 Version: 1.14.1 Command: /home/biocbuild/R/R/bin/R CMD INSTALL msqrob2 StartedAt: 2025-03-31 20:45:56 -0000 (Mon, 31 Mar 2025) EndedAt: 2025-03-31 20:46:36 -0000 (Mon, 31 Mar 2025) EllapsedTime: 40.5 seconds RetCode: 0 Status: OK