Package: msqrob2 Version: 1.14.1 Command: /home/biocbuild/R/R/bin/R CMD build --keep-empty-dirs --no-resave-data msqrob2 StartedAt: 2025-04-01 01:01:11 -0000 (Tue, 01 Apr 2025) EndedAt: 2025-04-01 01:03:44 -0000 (Tue, 01 Apr 2025) EllapsedTime: 153.1 seconds RetCode: 0 Status: OK PackageFile: msqrob2_1.14.1.tar.gz PackageFileSize: 1.372 MiB