Package: msqrob2 Version: 1.14.1 Command: /Library/Frameworks/R.framework/Resources/bin/R CMD check --install=check:msqrob2.install-out.txt --library=/Library/Frameworks/R.framework/Resources/library --no-vignettes --timings msqrob2_1.14.1.tar.gz StartedAt: 2025-04-01 06:09:39 -0400 (Tue, 01 Apr 2025) EndedAt: 2025-04-01 06:18:51 -0400 (Tue, 01 Apr 2025) EllapsedTime: 552.0 seconds RetCode: 0 Status: OK CheckDir: msqrob2.Rcheck Warnings: 0