Package: msmsTests Version: 1.44.0 Command: rm -rf msmsTests.buildbin-libdir && mkdir msmsTests.buildbin-libdir && F:\biocbuild\bbs-3.20-bioc\R\bin\R.exe CMD INSTALL --build --library=msmsTests.buildbin-libdir msmsTests_1.44.0.tar.gz StartedAt: 2025-04-01 08:41:44 -0400 (Tue, 01 Apr 2025) EndedAt: 2025-04-01 08:42:30 -0400 (Tue, 01 Apr 2025) EllapsedTime: 46.0 seconds RetCode: 0 Status: OK PackageFile: msmsTests_1.44.0.zip PackageFileSize: 346.8 KiB