Package: msmsTests Version: 1.44.0 Command: /home/biocbuild/bbs-3.20-bioc/R/bin/R CMD INSTALL msmsTests StartedAt: 2025-03-31 15:42:34 -0400 (Mon, 31 Mar 2025) EndedAt: 2025-03-31 15:43:05 -0400 (Mon, 31 Mar 2025) EllapsedTime: 31.3 seconds RetCode: 0 Status: OK