Package: msmsTests Version: 1.44.0 Command: /home/biocbuild/bbs-3.20-bioc/R/bin/R CMD build --keep-empty-dirs --no-resave-data --md5 msmsTests StartedAt: 2025-03-31 18:11:42 -0400 (Mon, 31 Mar 2025) EndedAt: 2025-03-31 18:12:54 -0400 (Mon, 31 Mar 2025) EllapsedTime: 72.1 seconds RetCode: 0 Status: OK PackageFile: msmsTests_1.44.0.tar.gz PackageFileSize: 549.5 KiB