Package: msmsTests Version: 1.44.0 Command: /Library/Frameworks/R.framework/Resources/bin/R CMD build --keep-empty-dirs --no-resave-data msmsTests StartedAt: 2025-03-31 20:23:02 -0400 (Mon, 31 Mar 2025) EndedAt: 2025-03-31 20:26:20 -0400 (Mon, 31 Mar 2025) EllapsedTime: 198.0 seconds RetCode: 0 Status: OK PackageFile: msmsTests_1.44.0.tar.gz PackageFileSize: 548.7 KiB