Package: msmsTests Version: 1.44.0 Command: rm -rf msmsTests.buildbin-libdir && mkdir msmsTests.buildbin-libdir && /Users/biocbuild/BBS/utils/build-universal.sh msmsTests_1.44.0.tar.gz /Library/Frameworks/R.framework/Resources/bin/R msmsTests.buildbin-libdir StartedAt: 2025-04-01 12:18:48 -0400 (Tue, 01 Apr 2025) EndedAt: 2025-04-01 12:20:01 -0400 (Tue, 01 Apr 2025) EllapsedTime: 72.9 seconds RetCode: 0 Status: OK PackageFile: msmsTests_1.44.0.tgz PackageFileSize: 583.7 KiB