Package: msmsTests Version: 1.44.0 Command: /Library/Frameworks/R.framework/Resources/bin/R CMD check --install=check:msmsTests.install-out.txt --library=/Library/Frameworks/R.framework/Resources/library --no-vignettes --timings msmsTests_1.44.0.tar.gz StartedAt: 2025-04-02 01:57:14 -0400 (Wed, 02 Apr 2025) EndedAt: 2025-04-02 02:00:09 -0400 (Wed, 02 Apr 2025) EllapsedTime: 175.7 seconds RetCode: 0 Status: OK CheckDir: msmsTests.Rcheck Warnings: 0