Package: msmsEDA Version: 1.44.0 Command: /home/biocbuild/R/R/bin/R CMD INSTALL msmsEDA StartedAt: 2025-03-31 20:49:16 -0000 (Mon, 31 Mar 2025) EndedAt: 2025-03-31 20:49:59 -0000 (Mon, 31 Mar 2025) EllapsedTime: 42.7 seconds RetCode: 0 Status: OK