Package: msmsEDA Version: 1.44.0 Command: F:\biocbuild\bbs-3.20-bioc\R\bin\R.exe CMD check --no-multiarch --install=check:msmsEDA.install-out.txt --library=F:\biocbuild\bbs-3.20-bioc\R\library --no-vignettes --timings msmsEDA_1.44.0.tar.gz StartedAt: 2025-04-01 03:47:35 -0400 (Tue, 01 Apr 2025) EndedAt: 2025-04-01 03:50:17 -0400 (Tue, 01 Apr 2025) EllapsedTime: 162.9 seconds RetCode: 0 Status: OK CheckDir: msmsEDA.Rcheck Warnings: 0