Package: msmsEDA Version: 1.44.0 Command: rm -rf msmsEDA.buildbin-libdir && mkdir msmsEDA.buildbin-libdir && F:\biocbuild\bbs-3.20-bioc\R\bin\R.exe CMD INSTALL --build --library=msmsEDA.buildbin-libdir msmsEDA_1.44.0.tar.gz StartedAt: 2025-04-01 08:41:43 -0400 (Tue, 01 Apr 2025) EndedAt: 2025-04-01 08:42:28 -0400 (Tue, 01 Apr 2025) EllapsedTime: 45.1 seconds RetCode: 0 Status: OK PackageFile: msmsEDA_1.44.0.zip PackageFileSize: 395.8 KiB