Package: mslp Version: 1.8.0 Command: /Library/Frameworks/R.framework/Resources/bin/R CMD INSTALL mslp StartedAt: 2025-03-31 15:42:09 -0400 (Mon, 31 Mar 2025) EndedAt: 2025-03-31 15:42:15 -0400 (Mon, 31 Mar 2025) EllapsedTime: 5.2 seconds RetCode: 0 Status: OK