Package: mslp Version: 1.8.0 Command: /Library/Frameworks/R.framework/Resources/bin/R CMD build --keep-empty-dirs --no-resave-data mslp StartedAt: 2025-03-31 20:22:23 -0400 (Mon, 31 Mar 2025) EndedAt: 2025-03-31 20:23:19 -0400 (Mon, 31 Mar 2025) EllapsedTime: 55.8 seconds RetCode: 0 Status: OK PackageFile: mslp_1.8.0.tar.gz PackageFileSize: 407.4 KiB