Package: mslp Version: 1.8.0 Command: rm -rf mslp.buildbin-libdir && mkdir mslp.buildbin-libdir && /Users/biocbuild/BBS/utils/build-universal.sh mslp_1.8.0.tar.gz /Library/Frameworks/R.framework/Resources/bin/R mslp.buildbin-libdir StartedAt: 2025-04-01 12:18:41 -0400 (Tue, 01 Apr 2025) EndedAt: 2025-04-01 12:18:48 -0400 (Tue, 01 Apr 2025) EllapsedTime: 7.7 seconds RetCode: 0 Status: OK PackageFile: mslp_1.8.0.tgz PackageFileSize: 452.8 KiB