Package: msa Version: 1.38.0 Command: /Library/Frameworks/R.framework/Resources/bin/R CMD build --keep-empty-dirs --no-resave-data msa StartedAt: 2025-03-31 20:20:40 -0400 (Mon, 31 Mar 2025) EndedAt: 2025-03-31 20:33:37 -0400 (Mon, 31 Mar 2025) EllapsedTime: 777.8 seconds RetCode: 0 Status: OK PackageFile: msa_1.38.0.tar.gz PackageFileSize: 3.893 MiB