Package: msa Version: 1.38.0 Command: rm -rf msa.buildbin-libdir && mkdir msa.buildbin-libdir && /Users/biocbuild/BBS/utils/build-universal.sh msa_1.38.0.tar.gz /Library/Frameworks/R.framework/Resources/bin/R msa.buildbin-libdir StartedAt: 2025-04-01 12:17:45 -0400 (Tue, 01 Apr 2025) EndedAt: 2025-04-01 12:29:24 -0400 (Tue, 01 Apr 2025) EllapsedTime: 699.0 seconds RetCode: 0 Status: OK PackageFile: msa_1.38.0.tgz PackageFileSize: 1.809 MiB