Package: msPurity Version: 1.32.0 Command: /Library/Frameworks/R.framework/Resources/bin/R CMD build --keep-empty-dirs --no-resave-data msPurity StartedAt: 2025-03-31 20:23:48 -0400 (Mon, 31 Mar 2025) EndedAt: 2025-03-31 20:45:28 -0400 (Mon, 31 Mar 2025) EllapsedTime: 1299.4 seconds RetCode: 1 Status: ERROR PackageFile: None PackageFileSize: NA