Package: msImpute Version: 1.16.0 Command: /home/biocbuild/R/R/bin/R CMD INSTALL msImpute StartedAt: 2025-03-31 21:04:18 -0000 (Mon, 31 Mar 2025) EndedAt: 2025-03-31 21:04:55 -0000 (Mon, 31 Mar 2025) EllapsedTime: 36.3 seconds RetCode: 0 Status: OK