Package: msImpute Version: 1.16.0 Command: /home/biocbuild/R/R/bin/R CMD build --keep-empty-dirs --no-resave-data msImpute StartedAt: 2025-04-01 01:00:03 -0000 (Tue, 01 Apr 2025) EndedAt: 2025-04-01 01:01:27 -0000 (Tue, 01 Apr 2025) EllapsedTime: 84.0 seconds RetCode: 0 Status: OK PackageFile: msImpute_1.16.0.tar.gz PackageFileSize: 1.673 MiB