Package: motifmatchr Version: 1.28.0 Command: /home/biocbuild/bbs-3.20-bioc/R/bin/R CMD INSTALL motifmatchr StartedAt: 2025-03-31 15:27:40 -0400 (Mon, 31 Mar 2025) EndedAt: 2025-03-31 15:28:43 -0400 (Mon, 31 Mar 2025) EllapsedTime: 63.3 seconds RetCode: 0 Status: OK