Package: motifcounter Version: 1.30.0 Command: /home/biocbuild/bbs-3.20-bioc/R/bin/R CMD INSTALL motifcounter StartedAt: 2025-03-31 15:17:16 -0400 (Mon, 31 Mar 2025) EndedAt: 2025-03-31 15:17:29 -0400 (Mon, 31 Mar 2025) EllapsedTime: 12.2 seconds RetCode: 0 Status: OK