Package: motifcounter Version: 1.30.0 Command: /Library/Frameworks/R.framework/Resources/bin/R CMD build --keep-empty-dirs --no-resave-data motifcounter StartedAt: 2025-03-31 20:16:51 -0400 (Mon, 31 Mar 2025) EndedAt: 2025-03-31 20:20:06 -0400 (Mon, 31 Mar 2025) EllapsedTime: 194.7 seconds RetCode: 0 Status: OK PackageFile: motifcounter_1.30.0.tar.gz PackageFileSize: 611.1 KiB