Package: motifcounter Version: 1.30.0 Command: rm -rf motifcounter.buildbin-libdir && mkdir motifcounter.buildbin-libdir && /Users/biocbuild/BBS/utils/build-universal.sh motifcounter_1.30.0.tar.gz /Library/Frameworks/R.framework/Resources/bin/R motifcounter.buildbin-libdir StartedAt: 2025-04-02 15:16:43 -0400 (Wed, 02 Apr 2025) EndedAt: 2025-04-02 15:17:03 -0400 (Wed, 02 Apr 2025) EllapsedTime: 20.3 seconds RetCode: 0 Status: OK PackageFile: motifcounter_1.30.0.tgz PackageFileSize: 738.4 KiB