Package: motifbreakR Version: 2.20.0 Command: /home/biocbuild/R/R/bin/R CMD check --install=check:motifbreakR.install-out.txt --library=/home/biocbuild/R/R/site-library --no-vignettes --timings motifbreakR_2.20.0.tar.gz StartedAt: 2025-04-01 08:31:53 -0000 (Tue, 01 Apr 2025) EndedAt: 2025-04-01 08:43:41 -0000 (Tue, 01 Apr 2025) EllapsedTime: 707.9 seconds RetCode: 0 Status: WARNINGS CheckDir: motifbreakR.Rcheck Warnings: 1