Package: motifbreakR Version: 2.20.0 Command: /Library/Frameworks/R.framework/Resources/bin/R CMD build --keep-empty-dirs --no-resave-data motifbreakR StartedAt: 2025-04-01 03:37:46 -0400 (Tue, 01 Apr 2025) EndedAt: 2025-04-01 03:45:06 -0400 (Tue, 01 Apr 2025) EllapsedTime: 439.8 seconds RetCode: 0 Status: OK PackageFile: motifbreakR_2.20.0.tar.gz PackageFileSize: 2.489 MiB