Package: motifTestR Version: 1.2.1 Command: /home/biocbuild/R/R/bin/R CMD INSTALL motifTestR StartedAt: 2025-03-31 20:23:00 -0000 (Mon, 31 Mar 2025) EndedAt: 2025-03-31 20:23:17 -0000 (Mon, 31 Mar 2025) EllapsedTime: 17.4 seconds RetCode: 0 Status: OK