Package: mosdef Version: 1.2.0 Command: chmod a+r mosdef -R && F:\biocbuild\bbs-3.20-bioc\R\bin\R.exe CMD build --keep-empty-dirs --no-resave-data mosdef StartedAt: 2025-03-31 20:19:35 -0400 (Mon, 31 Mar 2025) EndedAt: 2025-03-31 20:37:43 -0400 (Mon, 31 Mar 2025) EllapsedTime: 1087.5 seconds RetCode: 0 Status: OK PackageFile: mosdef_1.2.0.tar.gz PackageFileSize: 3.518 MiB