Package: mosdef Version: 1.2.0 Command: /Library/Frameworks/R.framework/Resources/bin/R CMD INSTALL mosdef StartedAt: 2025-03-31 16:11:28 -0400 (Mon, 31 Mar 2025) EndedAt: 2025-03-31 16:13:01 -0400 (Mon, 31 Mar 2025) EllapsedTime: 92.5 seconds RetCode: 0 Status: OK