Package: mosdef Version: 1.2.0 Command: /Library/Frameworks/R.framework/Resources/bin/R CMD check --install=check:mosdef.install-out.txt --library=/Library/Frameworks/R.framework/Resources/library --no-vignettes --timings mosdef_1.2.0.tar.gz StartedAt: 2025-04-01 05:56:14 -0400 (Tue, 01 Apr 2025) EndedAt: 2025-04-01 06:18:06 -0400 (Tue, 01 Apr 2025) EllapsedTime: 1312.3 seconds RetCode: 0 Status: OK CheckDir: mosdef.Rcheck Warnings: 0