Package: mosaics Version: 2.44.0 Command: /home/biocbuild/R/R/bin/R CMD INSTALL mosaics StartedAt: 2025-03-31 20:28:08 -0000 (Mon, 31 Mar 2025) EndedAt: 2025-03-31 20:29:14 -0000 (Mon, 31 Mar 2025) EllapsedTime: 66.1 seconds RetCode: 0 Status: OK