Package: mosaics Version: 2.44.0 Command: /home/biocbuild/bbs-3.20-bioc/R/bin/R CMD check --install=check:mosaics.install-out.txt --library=/home/biocbuild/bbs-3.20-bioc/R/site-library --timings mosaics_2.44.0.tar.gz StartedAt: 2025-04-01 00:05:43 -0400 (Tue, 01 Apr 2025) EndedAt: 2025-04-01 00:10:35 -0400 (Tue, 01 Apr 2025) EllapsedTime: 292.3 seconds RetCode: 0 Status: OK CheckDir: mosaics.Rcheck Warnings: 0