Package: monocle Version: 2.34.0 Command: /home/biocbuild/R/R/bin/R CMD check --install=check:monocle.install-out.txt --library=/home/biocbuild/R/R/site-library --no-vignettes --timings monocle_2.34.0.tar.gz StartedAt: 2025-04-01 08:29:58 -0000 (Tue, 01 Apr 2025) EndedAt: 2025-04-01 08:31:42 -0000 (Tue, 01 Apr 2025) EllapsedTime: 104.1 seconds RetCode: 0 Status: OK CheckDir: monocle.Rcheck Warnings: 0