Package: monaLisa Version: 1.12.0 Command: chmod a+r monaLisa -R && F:\biocbuild\bbs-3.20-bioc\R\bin\R.exe CMD build --keep-empty-dirs --no-resave-data monaLisa StartedAt: 2025-03-31 20:17:15 -0400 (Mon, 31 Mar 2025) EndedAt: 2025-03-31 20:24:05 -0400 (Mon, 31 Mar 2025) EllapsedTime: 410.1 seconds RetCode: 0 Status: OK PackageFile: monaLisa_1.12.0.tar.gz PackageFileSize: 4.192 MiB