Package: monaLisa Version: 1.12.0 Command: rm -rf monaLisa.buildbin-libdir && mkdir monaLisa.buildbin-libdir && F:\biocbuild\bbs-3.20-bioc\R\bin\R.exe CMD INSTALL --build --library=monaLisa.buildbin-libdir monaLisa_1.12.0.tar.gz StartedAt: 2025-04-01 08:39:39 -0400 (Tue, 01 Apr 2025) EndedAt: 2025-04-01 08:40:43 -0400 (Tue, 01 Apr 2025) EllapsedTime: 63.7 seconds RetCode: 0 Status: OK PackageFile: monaLisa_1.12.0.zip PackageFileSize: 4.374 MiB