Package: monaLisa Version: 1.12.0 Command: /Library/Frameworks/R.framework/Resources/bin/R CMD INSTALL monaLisa StartedAt: 2025-03-31 16:17:16 -0400 (Mon, 31 Mar 2025) EndedAt: 2025-03-31 16:18:47 -0400 (Mon, 31 Mar 2025) EllapsedTime: 91.2 seconds RetCode: 0 Status: OK