Package: monaLisa Version: 1.12.0 Command: /Library/Frameworks/R.framework/Resources/bin/R CMD check --install=check:monaLisa.install-out.txt --library=/Library/Frameworks/R.framework/Resources/library --no-vignettes --timings monaLisa_1.12.0.tar.gz StartedAt: 2025-04-01 05:55:23 -0400 (Tue, 01 Apr 2025) EndedAt: 2025-04-01 06:06:57 -0400 (Tue, 01 Apr 2025) EllapsedTime: 694.5 seconds RetCode: 0 Status: OK CheckDir: monaLisa.Rcheck Warnings: 0