Package: mogsa Version: 1.40.0 Command: /home/biocbuild/R/R/bin/R CMD build --keep-empty-dirs --no-resave-data mogsa StartedAt: 2025-04-01 00:53:57 -0000 (Tue, 01 Apr 2025) EndedAt: 2025-04-01 00:56:17 -0000 (Tue, 01 Apr 2025) EllapsedTime: 140.1 seconds RetCode: 0 Status: OK PackageFile: mogsa_1.40.0.tar.gz PackageFileSize: 757.5 KiB