Package: mogsa Version: 1.40.0 Command: chmod a+r mogsa -R && F:\biocbuild\bbs-3.20-bioc\R\bin\R.exe CMD build --keep-empty-dirs --no-resave-data mogsa StartedAt: 2025-03-31 20:17:05 -0400 (Mon, 31 Mar 2025) EndedAt: 2025-03-31 20:20:44 -0400 (Mon, 31 Mar 2025) EllapsedTime: 218.9 seconds RetCode: 0 Status: OK PackageFile: mogsa_1.40.0.tar.gz PackageFileSize: 775.3 KiB