Package: mogsa Version: 1.40.0 Command: rm -rf mogsa.buildbin-libdir && mkdir mogsa.buildbin-libdir && /Users/biocbuild/BBS/utils/build-universal.sh mogsa_1.40.0.tar.gz /Library/Frameworks/R.framework/Resources/bin/R mogsa.buildbin-libdir StartedAt: 2025-04-02 15:14:47 -0400 (Wed, 02 Apr 2025) EndedAt: 2025-04-02 15:15:17 -0400 (Wed, 02 Apr 2025) EllapsedTime: 29.6 seconds RetCode: 0 Status: OK PackageFile: mogsa_1.40.0.tgz PackageFileSize: 1.214 MiB