Package: mobileRNA Version: 1.2.0 Command: /home/biocbuild/R/R/bin/R CMD check --install=check:mobileRNA.install-out.txt --library=/home/biocbuild/R/R/site-library --no-vignettes --timings mobileRNA_1.2.0.tar.gz StartedAt: 2025-04-01 08:27:21 -0000 (Tue, 01 Apr 2025) EndedAt: 2025-04-01 08:33:22 -0000 (Tue, 01 Apr 2025) EllapsedTime: 360.5 seconds RetCode: 0 Status: OK CheckDir: mobileRNA.Rcheck Warnings: 0